BEGIN:VCALENDAR
VERSION:2.0
BEGIN:VEVENT
SUMMARY:Reach out to The Basement – UC San Diego about Blackstone LaunchPad Incubator
DESCRIPTION:Reach out to them for information about their program.\n\nDescription: Year-long incubator open to all UC San Diego students, providing 24/7 co-working space, prototyping funds, mentorship, and seed funding eligibility. Housed in The Basement, UCSD's student innovation hub, it supports student entrepreneurs from idea stage through early traction.\n\n- Phone: (858) 534-1218\n- Email: thebasement@ucsd.edu\n- Source: https://founder-nav.com/programs/recjXGmlr9UK1hTD6\n\n---\nBrought to you by Founder Nav, helping entrepreneurs navigate the entrepreneurial ecosystem.
DTSTART:20260425T100017Z
DTEND:20260425T103017Z
END:VEVENT
END:VCALENDAR