BEGIN:VCALENDAR
VERSION:2.0
BEGIN:VEVENT
SUMMARY:Reach out to Chesapeake Agriculture Innovation Center (CAIC) about From Ideas to Profits: Developing Successful Value-Added Products (Workshop)
DESCRIPTION:Reach out to them for information about their program.\n\nDescription: Free 6-week immersive workshop for Delmarva farmers and producers on transforming agricultural commodities into commercially viable value-added products.\n\n- Phone: (410) 770-9330\n- Email: info@caic.org\n- Source: https://founder-nav.com/programs/recjSnXoh8kwBT4w6\n\n---\nBrought to you by Founder Nav, helping entrepreneurs navigate the entrepreneurial ecosystem.
DTSTART:20260425T100034Z
DTEND:20260425T103034Z
END:VEVENT
END:VCALENDAR