BEGIN:VCALENDAR
VERSION:2.0
BEGIN:VEVENT
SUMMARY:Reach out to West Des Moines Chamber of Commerce about Athene Black & Brown Business Summit
DESCRIPTION:Reach out to them for information about their program.\n\nDescription: Annual two-day summit elevating minority entrepreneurs through keynote speakers, expert breakout sessions, a pitch competition, and a business expo, with $190,000+ awarded since 2021.\n\n- Email: info@wdmchamber.org\n- Source: https://founder-nav.com/programs/recjRycSc948ydHxX\n\n---\nBrought to you by Founder Nav, helping entrepreneurs navigate the entrepreneurial ecosystem.
DTSTART:20260425T100033Z
DTEND:20260425T103033Z
END:VEVENT
END:VCALENDAR