BEGIN:VCALENDAR
VERSION:2.0
BEGIN:VEVENT
SUMMARY:Reach out to Hatch Blue – Aquaculture Accelerator & Innovation Hub about Women in Ocean Food Program
DESCRIPTION:Reach out to them for information about their program.\n\nDescription: Capacity-building program by Hatch Blue tailored for female founders in the ocean food and sustainable aquaculture sector. Provides skills development, access to Hatch's global network, and resources to help women-led companies grow their businesses and strengthen gender inclusivity in ocean-based industries.\n\n- Email: hello@hatch.blue\n- Source: https://founder-nav.com/programs/recjNip7FmlCDArQL\n\n---\nBrought to you by Founder Nav, helping entrepreneurs navigate the entrepreneurial ecosystem.
DTSTART:20260425T100041Z
DTEND:20260425T103041Z
END:VEVENT
END:VCALENDAR