BEGIN:VCALENDAR
VERSION:2.0
BEGIN:VEVENT
SUMMARY:Reach out to DSU Cure about CURE Small Business Marketing & Sales Accelerator (8-Week Program)
DESCRIPTION:Reach out to them for information about their program.\n\nDescription: Eight-week accelerator focused on marketing, sales, branding, and business planning for small business owners in Dover, housed at DSU's Center for Urban Revitalization and Entrepreneurship.\n\n- Source: https://founder-nav.com/programs/recjM5oJwa03zpMaE\n\n---\nBrought to you by Founder Nav, helping entrepreneurs navigate the entrepreneurial ecosystem.
DTSTART:20260425T100051Z
DTEND:20260425T103051Z
END:VEVENT
END:VCALENDAR