BEGIN:VCALENDAR
VERSION:2.0
BEGIN:VEVENT
SUMMARY:Reach out to Taproots Farm Hub about Farm Incubator Program
DESCRIPTION:Reach out to them for information about their program.\n\nDescription: A developing land-based farm incubator in the Treasure Valley providing beginning organic farmers with long-term land access, shared equipment, infrastructure, and marketing support to build sustainable farm businesses.\n\n- Source: https://founder-nav.com/programs/recjLqd6Rq4ofJhPf\n\n---\nBrought to you by Founder Nav, helping entrepreneurs navigate the entrepreneurial ecosystem.
DTSTART:20260425T100036Z
DTEND:20260425T103036Z
END:VEVENT
END:VCALENDAR