BEGIN:VCALENDAR
VERSION:2.0
BEGIN:VEVENT
SUMMARY:Reach out to Golden State Warriors Community Foundation about Alley-Oop Accelerator
DESCRIPTION:Reach out to them for information about their program.\n\nDescription: Provides Bay Area entrepreneurs with a seven-week program offering hands-on training, mentorship, and resources in business management, legal compliance, marketing, and financial skills, culminating in a showcase at pop-up events and ongoing support.\n\n- Source: https://founder-nav.com/programs/recjLCBvDVotl1r6i\n\n---\nBrought to you by Founder Nav, helping entrepreneurs navigate the entrepreneurial ecosystem.
DTSTART:20260425T100038Z
DTEND:20260425T103038Z
END:VEVENT
END:VCALENDAR