BEGIN:VCALENDAR
VERSION:2.0
BEGIN:VEVENT
SUMMARY:Reach out to SCORE Maine about Business Workshops
DESCRIPTION:Reach out to them for information about their program.\n\nDescription: Free live and recorded workshops for Maine small business owners and entrepreneurs covering a wide range of topics from business fundamentals to advanced topics like social media marketing, short-form video, and starting a business. Led by experienced subject-matter experts.\n\n- Phone: (207) 772-1147\n- Email: scoremaine@gmail.com\n- Source: https://founder-nav.com/programs/recjJiQxsKpjQNH7x\n\n---\nBrought to you by Founder Nav, helping entrepreneurs navigate the entrepreneurial ecosystem.
DTSTART:20260425T100022Z
DTEND:20260425T103022Z
END:VEVENT
END:VCALENDAR