BEGIN:VCALENDAR
VERSION:2.0
BEGIN:VEVENT
SUMMARY:Reach out to Larta Institute about DOE/USDA SBIR Programs
DESCRIPTION:Reach out to them for information about their program.\n\nDescription: \- Provides non-dilutive funding and commercialization support to small businesses developing innovative technologies through federal agency partnerships, helping them advance from concept to market with expert guidance and resources.\n\- Offers a nine-month accelerator to nurture and scale bioscience and healthcare innovations that improve health and wellness in Los Angeles communities, especially those impacted by limited access to new solutions.\n\- Delivers a nine-month immersive experience supporting innovators to pilot and expand solutions that boost community resilience and adaptability to weather disasters and environmental challenges at no cost.\n\n- Phone: (213) 694-2826\n- Source: https://founder-nav.com/programs/recjIUYLdBWmRZekW\n\n---\nBrought to you by Founder Nav, helping entrepreneurs navigate the entrepreneurial ecosystem.
DTSTART:20260425T100028Z
DTEND:20260425T103028Z
END:VEVENT
END:VCALENDAR