BEGIN:VCALENDAR
VERSION:2.0
BEGIN:VEVENT
SUMMARY:Reach out to Southern Arizona Technology & Entrepreneurship Center (SATEC) about Southern Arizona Technology & Entrepreneurship Center (SATEC)
DESCRIPTION:Reach out to them for information about their program.\n\nDescription: A technology and entrepreneurship support center in Southern Arizona providing incubation, mentorship, workshops, and resources to tech startups and entrepreneurs in the region.\n\n- Source: https://founder-nav.com/programs/recjHQUdDphx8WywB\n\n---\nBrought to you by Founder Nav, helping entrepreneurs navigate the entrepreneurial ecosystem.
DTSTART:20260425T100011Z
DTEND:20260425T103011Z
END:VEVENT
END:VCALENDAR