BEGIN:VCALENDAR
VERSION:2.0
BEGIN:VEVENT
SUMMARY:Reach out to Disney Accelerator about Disney Accelerator
DESCRIPTION:Reach out to them for information about their program.\n\nDescription: 3-month accelerator on Disney's campus providing investment capital and mentorship from Disney executives to companies working in entertainment, media, and technology.\n\n- Source: https://founder-nav.com/programs/recjBIVTdkTgEvp7n\n\n---\nBrought to you by Founder Nav, helping entrepreneurs navigate the entrepreneurial ecosystem.
DTSTART:20260425T100034Z
DTEND:20260425T103034Z
END:VEVENT
END:VCALENDAR