BEGIN:VCALENDAR
VERSION:2.0
BEGIN:VEVENT
SUMMARY:Reach out to Maine Aquaculture Association about Business Planning Support & Consultation
DESCRIPTION:Reach out to them for information about their program.\n\nDescription: Business planning support and consultation provided by the Maine Aquaculture Association (MAA) to aquaculture producers. Includes custom-built business planning tools, production plans, risk management guidance, marketing strategy, benchmarking, and direct access to MAA's professional staff.\n\n- Phone: (207) 622-0136\n- Source: https://founder-nav.com/programs/recj8uLNT4jlfAUBN\n\n---\nBrought to you by Founder Nav, helping entrepreneurs navigate the entrepreneurial ecosystem.
DTSTART:20260425T100050Z
DTEND:20260425T103050Z
END:VEVENT
END:VCALENDAR