BEGIN:VCALENDAR
VERSION:2.0
BEGIN:VEVENT
SUMMARY:Reach out to Rockies Venture Club about RVC Pitch Academy
DESCRIPTION:Reach out to them for information about their program.\n\nDescription: Half-day workshop for founders to polish pitch and presentation skills, understand venture capital terms and processes, and sharpen venture strategy. Open to entrepreneurs at any stage.\n\n- Phone: (720) 305-4277\n- Email: info@rockiesventureclub.org\n- Source: https://founder-nav.com/programs/recj8OXJ0qBkTOp2z\n\n---\nBrought to you by Founder Nav, helping entrepreneurs navigate the entrepreneurial ecosystem.
DTSTART:20260425T100058Z
DTEND:20260425T103058Z
END:VEVENT
END:VCALENDAR