BEGIN:VCALENDAR
VERSION:2.0
BEGIN:VEVENT
SUMMARY:Reach out to North Coast SBDC (Humboldt) about Farm Business Program (Flight Cohort)
DESCRIPTION:Reach out to them for information about their program.\n\nDescription: Offers workshops and one-on-one advising to help new and small farmers develop business skills, create business plans, understand regulations, access financing, and connect with local networks to grow their agricultural enterprises.\n\n- Phone: (707) 445-9720\n- Email: admin@northcoastsbdc.org\n- Source: https://founder-nav.com/programs/recj8L7wkLJGxy7hU\n\n---\nBrought to you by Founder Nav, helping entrepreneurs navigate the entrepreneurial ecosystem.
DTSTART:20260425T100044Z
DTEND:20260425T103044Z
END:VEVENT
END:VCALENDAR