BEGIN:VCALENDAR
VERSION:2.0
BEGIN:VEVENT
SUMMARY:Reach out to Chesapeake Agriculture Innovation Center (CAIC) about CAIC Producers Growth Program
DESCRIPTION:Reach out to them for information about their program.\n\nDescription: Intensive growth program for value-added agri-food producers with $20K+ yearly revenue, offering 63 hours of business advisory services covering wholesale buyers, risk management, supply chain, and legal topics.\n\n- Phone: (410) 770-9330\n- Email: info@caic.org\n- Source: https://founder-nav.com/programs/recj5CmOSs1ZvcJCA\n\n---\nBrought to you by Founder Nav, helping entrepreneurs navigate the entrepreneurial ecosystem.
DTSTART:20260425T100039Z
DTEND:20260425T103039Z
END:VEVENT
END:VCALENDAR