BEGIN:VCALENDAR
VERSION:2.0
BEGIN:VEVENT
SUMMARY:Reach out to Center for Economic Development (University of Alaska) about Upstart Alpha Accelerator
DESCRIPTION:Reach out to them for information about their program.\n\nDescription: A university-based startup accelerator for early-stage Alaska entrepreneurs to grow ideas into businesses through structured learning, peer accountability, and network building.\n\n- Email: mgowens@alaska.edu\n- Source: https://founder-nav.com/programs/reciySaFLTDVNg95g\n\n---\nBrought to you by Founder Nav, helping entrepreneurs navigate the entrepreneurial ecosystem.
DTSTART:20260425T100042Z
DTEND:20260425T103042Z
END:VEVENT
END:VCALENDAR