BEGIN:VCALENDAR
VERSION:2.0
BEGIN:VEVENT
SUMMARY:Reach out to San Francisco SBDC about Foodpreneur Cohort
DESCRIPTION:Reach out to them for information about their program.\n\nDescription: Provides personalized, no-cost advising and training for food and hospitality businesses, offering expert guidance on starting, growing, and managing operations, with specialized programs for startups, packaged goods, food trucks, and marketing.\n\n- Phone: (415) 937-7232\n- Source: https://founder-nav.com/programs/recixLCHxq64ynP7g\n\n---\nBrought to you by Founder Nav, helping entrepreneurs navigate the entrepreneurial ecosystem.
DTSTART:20260425T100057Z
DTEND:20260425T103057Z
END:VEVENT
END:VCALENDAR