BEGIN:VCALENDAR
VERSION:2.0
BEGIN:VEVENT
SUMMARY:Reach out to SBDC Missouri about Startups Program
DESCRIPTION:Reach out to them for information about their program.\n\nDescription: Our seasoned business specialists and coaches go beyond the basics, delving into the heart of your business concept. We are your guide through the steps of starting a business in Missouri. Your dream deserves more than a mere start; it deserves the expertise and support of a team dedicated to turning your vision into a flourishing reality.\n\n- Phone: (573) 884-7667\n- Email: info@missouriinnovation.com\n- Source: https://founder-nav.com/programs/recibiQL8DPy8A775\n\n---\nBrought to you by Founder Nav, helping entrepreneurs navigate the entrepreneurial ecosystem.
DTSTART:20260425T100033Z
DTEND:20260425T103033Z
END:VEVENT
END:VCALENDAR