BEGIN:VCALENDAR
VERSION:2.0
BEGIN:VEVENT
SUMMARY:Reach out to Greater Iowa City, Inc. about Executive Leadership Program (ELP)
DESCRIPTION:Reach out to them for information about their program.\n\nDescription: Executive-level leadership program for experienced professionals in the Greater Iowa City area, focusing on advanced leadership skills and strategic organizational impact.\n\n- Source: https://founder-nav.com/programs/reciUxDqurXOn2BlX\n\n---\nBrought to you by Founder Nav, helping entrepreneurs navigate the entrepreneurial ecosystem.
DTSTART:20260425T100005Z
DTEND:20260425T103005Z
END:VEVENT
END:VCALENDAR