BEGIN:VCALENDAR
VERSION:2.0
BEGIN:VEVENT
SUMMARY:Reach out to The Basement – UC San Diego about i4X (Innovating for X)
DESCRIPTION:Reach out to them for information about their program.\n\nDescription: Multi-quarter experiential program where student teams collaborate with industry, society, and government leaders on real-world challenges. Four tracks: i4I (Industry), i4S (Society), i4G (Government), and i4NS (National Security). Builds entrepreneurial problem-solving skills through applied project work.\n\n- Phone: (858) 534-1218\n- Email: thebasement@ucsd.edu\n- Source: https://founder-nav.com/programs/reciOxvcqnJlXoHqc\n\n---\nBrought to you by Founder Nav, helping entrepreneurs navigate the entrepreneurial ecosystem.
DTSTART:20260425T100042Z
DTEND:20260425T103042Z
END:VEVENT
END:VCALENDAR