BEGIN:VCALENDAR
VERSION:2.0
BEGIN:VEVENT
SUMMARY:Reach out to InsurTech Corridor about InsurTech Corridor Program
DESCRIPTION:Reach out to them for information about their program.\n\nDescription: Facilitates UK and US insurance technology companies’ market entry by providing a structured platform to test concepts, access resources, and connect with industry leaders in both regions, fostering cross-border innovation and business growth.\n\n- Email: enquiries@insurtechcorridor.com\n- Source: https://founder-nav.com/programs/reciMxZPwKxfprmtR\n\n---\nBrought to you by Founder Nav, helping entrepreneurs navigate the entrepreneurial ecosystem.
DTSTART:20260425T100029Z
DTEND:20260425T103029Z
END:VEVENT
END:VCALENDAR