BEGIN:VCALENDAR
VERSION:2.0
BEGIN:VEVENT
SUMMARY:Reach out to CITRIS Foundry Accelerator about CITRIS Foundry Accelerator
DESCRIPTION:Reach out to them for information about their program.\n\nDescription: A one-year deep tech incubator for UC system-affiliated founders (students, faculty, staff, alumni within 5 years), with cohorts across UC Berkeley, Davis, Merced, and Santa Cruz. Focuses on AI, health tech, sustainability, robotics, climate, and quantum.\n\n- Email: thefoundry@citris-uc.org\n- Source: https://founder-nav.com/programs/reciFQLPYzDbwmvA9\n\n---\nBrought to you by Founder Nav, helping entrepreneurs navigate the entrepreneurial ecosystem.
DTSTART:20260425T100011Z
DTEND:20260425T103011Z
END:VEVENT
END:VCALENDAR