BEGIN:VCALENDAR
VERSION:2.0
BEGIN:VEVENT
SUMMARY:Reach out to The New Bohemian Innovation Collaborative (NewBoCo) about DeltaV Code School
DESCRIPTION:Reach out to them for information about their program.\n\nDescription: 20-week full-stack JavaScript developer training program preparing students for careers in software development with diversity-focused financial support.\n\n- Source: https://founder-nav.com/programs/reciERoDhdslSkOWu\n\n---\nBrought to you by Founder Nav, helping entrepreneurs navigate the entrepreneurial ecosystem.
DTSTART:20260425T100013Z
DTEND:20260425T103013Z
END:VEVENT
END:VCALENDAR