BEGIN:VCALENDAR
VERSION:2.0
BEGIN:VEVENT
SUMMARY:Reach out to CEI, Center for Entrepreneurial Innovation – GateWay about CEI Business Incubator (GateWay)
DESCRIPTION:Reach out to them for information about their program.\n\nDescription: A bioscience and emerging tech business incubator at GateWay Community College providing offices, wet labs, customized coaching, and an expert mentor network for Phoenix-area high-growth startups.\n\n- Phone: (602) 286-8950\n- Source: https://founder-nav.com/programs/reci7tUHrWrIdxAwj\n\n---\nBrought to you by Founder Nav, helping entrepreneurs navigate the entrepreneurial ecosystem.
DTSTART:20260425T100022Z
DTEND:20260425T103022Z
END:VEVENT
END:VCALENDAR