BEGIN:VCALENDAR
VERSION:2.0
BEGIN:VEVENT
SUMMARY:Reach out to Maine SBDC - Portland about Business Advising Program
DESCRIPTION:Reach out to them for information about their program.\n\nDescription: Free, confidential one-on-one business advising from certified SBDC advisors for Maine entrepreneurs and small businesses. Covers business feasibility, planning, capital access, financial management, marketing, e-commerce, and strategic planning. Statewide network with centers in Portland and beyond.\n\n- Phone: (207) 780-4420\n- Email: mainesbdc@usm.maine.edu\n- Source: https://founder-nav.com/programs/reci50dvodOK2lvGk\n\n---\nBrought to you by Founder Nav, helping entrepreneurs navigate the entrepreneurial ecosystem.
DTSTART:20260425T100043Z
DTEND:20260425T103043Z
END:VEVENT
END:VCALENDAR