BEGIN:VCALENDAR
VERSION:2.0
BEGIN:VEVENT
SUMMARY:Reach out to ETC Baltimore about Incubate Baltimore
DESCRIPTION:Reach out to them for information about their program.\n\nDescription: Tech-focused business incubator for early-stage companies providing business and technical assistance, networking, and connections to Baltimore's innovation ecosystem. Part of ETC Baltimore since 1999.\n\n- Phone: (410) 327-9150\n- Email: info@etcbaltimore.com\n- Source: https://founder-nav.com/programs/reci4yc8xT9L8T6gW\n\n---\nBrought to you by Founder Nav, helping entrepreneurs navigate the entrepreneurial ecosystem.
DTSTART:20260425T100051Z
DTEND:20260425T103051Z
END:VEVENT
END:VCALENDAR