BEGIN:VCALENDAR
VERSION:2.0
BEGIN:VEVENT
SUMMARY:Reach out to Port of Lewiston about Business Incubator Program
DESCRIPTION:Reach out to them for information about their program.\n\nDescription: A manufacturing-focused incubator providing structured lease rates to qualifying start-up businesses. Tenants must produce a product and be ready to begin production. Administered by Port Manager Scott Corbitt.\n\n- Phone: (208) 743-5531\n- Source: https://founder-nav.com/programs/rechjXU3Cqky7ya5s\n\n---\nBrought to you by Founder Nav, helping entrepreneurs navigate the entrepreneurial ecosystem.
DTSTART:20260425T100030Z
DTEND:20260425T103030Z
END:VEVENT
END:VCALENDAR