BEGIN:VCALENDAR
VERSION:2.0
BEGIN:VEVENT
SUMMARY:Reach out to Alameda County SBDC (East Bay SBDC) about SBDC Business Advising & Mentoring
DESCRIPTION:Reach out to them for information about their program.\n\nDescription: Provides confidential, no-cost business advising, training, and resources to help entrepreneurs and small businesses start, grow, access capital, and navigate challenges at every stage, from startup to expansion or transition.\n\n- Phone: (510) 885-4801\n- Source: https://founder-nav.com/programs/rechj0atGrdob70Yi\n\n---\nBrought to you by Founder Nav, helping entrepreneurs navigate the entrepreneurial ecosystem.
DTSTART:20260425T100020Z
DTEND:20260425T103020Z
END:VEVENT
END:VCALENDAR