BEGIN:VCALENDAR
VERSION:2.0
BEGIN:VEVENT
SUMMARY:Reach out to Wilmington Alliance about FastTrac Entrepreneurial Training Program
DESCRIPTION:Reach out to them for information about their program.\n\nDescription: Wilmington Alliance is a Kauffman Foundation affiliate offering the nationally recognized FastTrac entrepreneurial training program in Delaware. FastTrac provides structured business education curriculum for aspiring and existing entrepreneurs to build practical business knowledge and skills.\n\n- Email: tish@wilmingtonalliance.org\n- Source: https://founder-nav.com/programs/rechhqjTH2JJfUG7f\n\n---\nBrought to you by Founder Nav, helping entrepreneurs navigate the entrepreneurial ecosystem.
DTSTART:20260425T100023Z
DTEND:20260425T103023Z
END:VEVENT
END:VCALENDAR