BEGIN:VCALENDAR
VERSION:2.0
BEGIN:VEVENT
SUMMARY:Reach out to Lewis-Clark State College SBDC  about One-on-One Business Consulting
DESCRIPTION:Reach out to them for information about their program.\n\nDescription: Free, confidential one-on-one business consulting for entrepreneurs in the Lewiston/Clarkston area. Advisors at Lewis-Clark State College SBDC cover business planning, financing, marketing, and operations.\n\n- Phone: (208) 792-2465\n- Source: https://founder-nav.com/programs/rechdewOhQbKWaxSM\n\n---\nBrought to you by Founder Nav, helping entrepreneurs navigate the entrepreneurial ecosystem.
DTSTART:20260425T100023Z
DTEND:20260425T103023Z
END:VEVENT
END:VCALENDAR