BEGIN:VCALENDAR
VERSION:2.0
BEGIN:VEVENT
SUMMARY:Reach out to Leadership Maryland about Emerging Leader Program
DESCRIPTION:Reach out to them for information about their program.\n\nDescription: Six-month leadership program for 30–40 Maryland rising stars, covering self-awareness, team effectiveness, and leadership competencies through five one-day sessions with optional mentorship.\n\n- Phone: (410) 841-2101\n- Email: info@leadershipmd.org\n- Source: https://founder-nav.com/programs/rechd8LjAMn6vfCdI\n\n---\nBrought to you by Founder Nav, helping entrepreneurs navigate the entrepreneurial ecosystem.
DTSTART:20260425T100043Z
DTEND:20260425T103043Z
END:VEVENT
END:VCALENDAR