BEGIN:VCALENDAR
VERSION:2.0
BEGIN:VEVENT
SUMMARY:Reach out to Idaho Innovation Center about One-on-One Business Coaching
DESCRIPTION:Reach out to them for information about their program.\n\nDescription: Free, confidential one-on-one business coaching provided in partnership with the Idaho SBDC, helping entrepreneurs clarify goals, build strategy, prepare for funding, and manage growth.\n\n- Phone: (208) 523-1026\n- Email: bryanmagleby@isu.edu\n- Source: https://founder-nav.com/programs/rechXF3G9D9zr4sLE\n\n---\nBrought to you by Founder Nav, helping entrepreneurs navigate the entrepreneurial ecosystem.
DTSTART:20260425T100045Z
DTEND:20260425T103045Z
END:VEVENT
END:VCALENDAR