BEGIN:VCALENDAR
VERSION:2.0
BEGIN:VEVENT
SUMMARY:Reach out to Startup Sioux Falls about Growco Business Program
DESCRIPTION:Reach out to them for information about their program.\n\nDescription: Year-long cohort program for established business owners experiencing growth or plateau, providing monthly structured sessions using GrowthWheel tools and expert facilitation.\n\n- Phone: (605) 275-8000\n- Source: https://founder-nav.com/programs/rechN9MjgkT02Z1Dq\n\n---\nBrought to you by Founder Nav, helping entrepreneurs navigate the entrepreneurial ecosystem.
DTSTART:20260425T100019Z
DTEND:20260425T103019Z
END:VEVENT
END:VCALENDAR