BEGIN:VCALENDAR
VERSION:2.0
BEGIN:VEVENT
SUMMARY:Reach out to Thomas Entrepreneurship Hub about Thomas Entrepreneurship Hub Incubator
DESCRIPTION:Reach out to them for information about their program.\n\nDescription: Helps start-ups and small businesses whether in the early stages of ideation, simulation, and prototyping, or later stages of strategic planning and execution.\n\n- Phone: (910) 775-4065\n- Email: hub@uncp.edu\n- Source: https://founder-nav.com/programs/rech8wEMUqCofvMMg\n\n---\nBrought to you by Founder Nav, helping entrepreneurs navigate the entrepreneurial ecosystem.
DTSTART:20260425T100059Z
DTEND:20260425T103059Z
END:VEVENT
END:VCALENDAR