BEGIN:VCALENDAR
VERSION:2.0
BEGIN:VEVENT
SUMMARY:Reach out to Kansas SBDC about No-Cost One-on-One Business Advising
DESCRIPTION:Reach out to them for information about their program.\n\nDescription: Free, confidential one-on-one business advising for startups and existing small businesses covering business planning, marketing, financing, and exit strategies.\n\n- Phone: (785) 296-6514\n- Email: info@ksbdc.net\n- Source: https://founder-nav.com/programs/rech3QUcul6A3UlvE\n\n---\nBrought to you by Founder Nav, helping entrepreneurs navigate the entrepreneurial ecosystem.
DTSTART:20260425T100016Z
DTEND:20260425T103016Z
END:VEVENT
END:VCALENDAR