BEGIN:VCALENDAR
VERSION:2.0
BEGIN:VEVENT
SUMMARY:Reach out to Solano Napa SBDC about SBDC Business Advising & Mentoring
DESCRIPTION:Reach out to them for information about their program.\n\nDescription: Provides confidential, no-cost business advising, training, and resources to help entrepreneurs and small businesses in Solano and Napa counties start, grow, and succeed through expert guidance, workshops, and access to funding opportunities.\n\n- Phone: (707) 646-1071\n- Email: info@solanonapasbdc.org\n- Source: https://founder-nav.com/programs/recguZX13oWn67osd\n\n---\nBrought to you by Founder Nav, helping entrepreneurs navigate the entrepreneurial ecosystem.
DTSTART:20260425T100037Z
DTEND:20260425T103037Z
END:VEVENT
END:VCALENDAR