BEGIN:VCALENDAR
VERSION:2.0
BEGIN:VEVENT
SUMMARY:Reach out to Mid-Atlantic Veterans Business Outreach Center - Discovery District about VBOC Business Training, Workshops & Counseling
DESCRIPTION:Reach out to them for information about their program.\n\nDescription: Comprehensive free business training, workshops, mentoring, and one-on-one counseling services offered by the Mid-Atlantic Veterans Business Outreach Center (UMD Discovery District). Serves transitioning service members, veterans of all eras, National Guard/Reserve members, and military spouses across MD, DC, DE, and northern VA.\n\n- Source: https://founder-nav.com/programs/recgtCxNuXLU9IBpa\n\n---\nBrought to you by Founder Nav, helping entrepreneurs navigate the entrepreneurial ecosystem.
DTSTART:20260425T100018Z
DTEND:20260425T103018Z
END:VEVENT
END:VCALENDAR