BEGIN:VCALENDAR
VERSION:2.0
BEGIN:VEVENT
SUMMARY:Reach out to Idaho Innovation Center about Classes & Workshops
DESCRIPTION:Reach out to them for information about their program.\n\nDescription: Business education classes and workshops hosted at the Idaho Innovation Center covering topics like QuickBooks, marketing, legal basics, and other entrepreneurship fundamentals—most offered at low or no cost.\n\n- Phone: (208) 523-1026\n- Email: bryanmagleby@isu.edu\n- Source: https://founder-nav.com/programs/recgrUif2zSPudCau\n\n---\nBrought to you by Founder Nav, helping entrepreneurs navigate the entrepreneurial ecosystem.
DTSTART:20260425T100017Z
DTEND:20260425T103017Z
END:VEVENT
END:VCALENDAR