BEGIN:VCALENDAR
VERSION:2.0
BEGIN:VEVENT
SUMMARY:Reach out to Fairfield County Story Lab about Workshops & Master Classes
DESCRIPTION:Reach out to them for information about their program.\n\nDescription: Provides a supportive environment where writers develop their craft and careers through small classes, one-on-one editing, and master classes led by acclaimed faculty, fostering growth in a positive, professional, and fun community.\n\n- Phone: (203) 374-8343\n- Email: Info@FCStoryLab.com\n- Source: https://founder-nav.com/programs/recglveTEOyK9xzvg\n\n---\nBrought to you by Founder Nav, helping entrepreneurs navigate the entrepreneurial ecosystem.
DTSTART:20260425T100019Z
DTEND:20260425T103019Z
END:VEVENT
END:VCALENDAR