BEGIN:VCALENDAR
VERSION:2.0
BEGIN:VEVENT
SUMMARY:Reach out to Emporia Main Street – Business Incubator about E-Tech Startups Program
DESCRIPTION:Reach out to them for information about their program.\n\nDescription: Intensive 5-week cohort-based bootcamp for tech entrepreneurs in Emporia, developed in partnership with the Center on Rural Innovation (CORI), covering customer discovery, lean startup principles, and building a repeatable, scalable tech business model.\n\n- Phone: (620) 340-6430\n- Email: director@emporiamainstreet.com\n- Source: https://founder-nav.com/programs/recgSWZ4zwXxJe1VO\n\n---\nBrought to you by Founder Nav, helping entrepreneurs navigate the entrepreneurial ecosystem.
DTSTART:20260425T100026Z
DTEND:20260425T103026Z
END:VEVENT
END:VCALENDAR