BEGIN:VCALENDAR
VERSION:2.0
BEGIN:VEVENT
SUMMARY:Reach out to Pathway Lending about Veterans Business Outreach Center
DESCRIPTION:Reach out to them for information about their program.\n\nDescription: Empowering transitioning service members and veterans of all eras, other members of the military entrepreneurship community, including active duty service members, National Guard and Reserve component members, and military spouses who aspire to be or are existing business owners.\n\n- Phone: (615) 425-7171\n- Source: https://founder-nav.com/programs/recgJx7TFicR5Edmb\n\n---\nBrought to you by Founder Nav, helping entrepreneurs navigate the entrepreneurial ecosystem.
DTSTART:20260425T100037Z
DTEND:20260425T103037Z
END:VEVENT
END:VCALENDAR