BEGIN:VCALENDAR
VERSION:2.0
BEGIN:VEVENT
SUMMARY:Reach out to ETC Baltimore about Accelerate Baltimore (Seed Stage Accelerator)
DESCRIPTION:Reach out to them for information about their program.\n\nDescription: Seed accelerator providing 13 weeks of programming and $25,000 in seed funding to 6–8 tech startups per cohort, aiming to close the gap between innovative ideas and getting to market.\n\n- Phone: (410) 327-9150\n- Email: info@etcbaltimore.com\n- Source: https://founder-nav.com/programs/recgHsZsiTOlHm03x\n\n---\nBrought to you by Founder Nav, helping entrepreneurs navigate the entrepreneurial ecosystem.
DTSTART:20260425T100048Z
DTEND:20260425T103048Z
END:VEVENT
END:VCALENDAR