BEGIN:VCALENDAR
VERSION:2.0
BEGIN:VEVENT
SUMMARY:Reach out to SCORE of Maui County about Business Workshops & Webinars
DESCRIPTION:Reach out to them for information about their program.\n\nDescription: Free or low-cost business workshops and webinars offered by SCORE of Maui County covering startup basics, marketing, financial literacy, and business growth strategies. Open to all Maui County entrepreneurs and business owners.\n\n- Phone: (808) 214-2470\n- Email: help@score.org\n- Source: https://founder-nav.com/programs/recg9qXrXtNIvOJO0\n\n---\nBrought to you by Founder Nav, helping entrepreneurs navigate the entrepreneurial ecosystem.
DTSTART:20260425T100042Z
DTEND:20260425T103042Z
END:VEVENT
END:VCALENDAR