BEGIN:VCALENDAR
VERSION:2.0
BEGIN:VEVENT
SUMMARY:Reach out to BioVentures Center (University of Iowa Research Park) about BioVentures Center Business Incubator
DESCRIPTION:Reach out to them for information about their program.\n\nDescription: Business incubation program at the University of Iowa Research Park offering lab space, collaborative resources, and support for biotech and research-driven startups.\n\n- Source: https://founder-nav.com/programs/recg4HmHdjhruFUvV\n\n---\nBrought to you by Founder Nav, helping entrepreneurs navigate the entrepreneurial ecosystem.
DTSTART:20260425T100001Z
DTEND:20260425T103001Z
END:VEVENT
END:VCALENDAR