BEGIN:VCALENDAR
VERSION:2.0
BEGIN:VEVENT
SUMMARY:Reach out to Unknown Hub about Women of Innovation Awards
DESCRIPTION:Reach out to them for information about their program.\n\nDescription: Honors women in Connecticut for outstanding leadership and innovation in technology, science, engineering, and related fields, while fostering a diverse STEM community and awarding youth scholarships.\n\n- Email: hello@ct.org\n- Source: https://founder-nav.com/programs/recg27L8b0XHF2S1r\n\n---\nBrought to you by Founder Nav, helping entrepreneurs navigate the entrepreneurial ecosystem.
DTSTART:20260425T100035Z
DTEND:20260425T103035Z
END:VEVENT
END:VCALENDAR