BEGIN:VCALENDAR
VERSION:2.0
BEGIN:VEVENT
SUMMARY:Reach out to Stockton Community Kitchen about Stockton Community Kitchen Incubator
DESCRIPTION:Reach out to them for information about their program.\n\nDescription: Cultivates under-resourced food entrepreneurs by providing a fully equipped commercial kitchen and hands-on experiences to help formalize and grow their businesses, aiming to break barriers and foster a diverse, equitable food industry.\n\n- Phone: (209) 949-2104\n- Source: https://founder-nav.com/programs/recg0udMtG5Fbekov\n\n---\nBrought to you by Founder Nav, helping entrepreneurs navigate the entrepreneurial ecosystem.
DTSTART:20260425T100023Z
DTEND:20260425T103023Z
END:VEVENT
END:VCALENDAR