BEGIN:VCALENDAR
VERSION:2.0
BEGIN:VEVENT
SUMMARY:Reach out to Leadership Maryland about Executive Program
DESCRIPTION:Reach out to them for information about their program.\n\nDescription: Eight-month statewide leadership program selecting 52 accomplished senior executives annually for five two-day regional sessions covering Maryland's key social, economic, and environmental issues.\n\n- Phone: (410) 841-2101\n- Email: info@leadershipmd.org\n- Source: https://founder-nav.com/programs/recfikXUOEDBupnmB\n\n---\nBrought to you by Founder Nav, helping entrepreneurs navigate the entrepreneurial ecosystem.
DTSTART:20260425T100039Z
DTEND:20260425T103039Z
END:VEVENT
END:VCALENDAR