BEGIN:VCALENDAR
VERSION:2.0
BEGIN:VEVENT
SUMMARY:Reach out to Unknown Hub about Building For Equity Accelerator
DESCRIPTION:Reach out to them for information about their program.\n\nDescription: Offers a 6-week accelerator and pitch competition for Connecticut women business owners from under-resourced communities, providing training, mentorship, and a chance to win funding to support business growth in technology or consumer packaged goods sectors.\n\n- Phone: (860) 501-0000\n- Email: info@girlsfortechnology.org\n- Source: https://founder-nav.com/programs/recffbblX33YaqlnF\n\n---\nBrought to you by Founder Nav, helping entrepreneurs navigate the entrepreneurial ecosystem.
DTSTART:20260425T100012Z
DTEND:20260425T103012Z
END:VEVENT
END:VCALENDAR