BEGIN:VCALENDAR
VERSION:2.0
BEGIN:VEVENT
SUMMARY:Reach out to Kansas SBDC @ Washburn University Region about No-Cost Business Advising & Consulting
DESCRIPTION:Reach out to them for information about their program.\n\nDescription: Free, confidential business consulting from the Washburn SBDC in Topeka, providing personalized guidance on business planning, financing, marketing, operations, and strategic planning for small businesses in the Topeka and north-central Kansas region.\n\n- Email: ksbdc@washburn.edu\n- Source: https://founder-nav.com/programs/recfbFDFx1RVIJ9ik\n\n---\nBrought to you by Founder Nav, helping entrepreneurs navigate the entrepreneurial ecosystem.
DTSTART:20260426T100005Z
DTEND:20260426T103005Z
END:VEVENT
END:VCALENDAR