BEGIN:VCALENDAR
VERSION:2.0
BEGIN:VEVENT
SUMMARY:Reach out to Norwich Community Development Corporation about Global City Norwich Entrepreneurship Education Program
DESCRIPTION:Reach out to them for information about their program.\n\nDescription: NCDC program supporting diverse entrepreneurs in downtown Norwich through cultural outreach, business education, and storefront activation, accounting for ~30% of new downtown businesses since 2018.\n\n- Phone: (860) 887-6964\n- Source: https://founder-nav.com/programs/recfafPzT0UBI9sC0\n\n---\nBrought to you by Founder Nav, helping entrepreneurs navigate the entrepreneurial ecosystem.
DTSTART:20260425T100020Z
DTEND:20260425T103020Z
END:VEVENT
END:VCALENDAR